BEGIN:VCALENDAR
VERSION:2.0
PRODID:-//EdinFurs - ECPv6.15.20//NONSGML v1.0//EN
CALSCALE:GREGORIAN
METHOD:PUBLISH
X-WR-CALNAME:EdinFurs
X-ORIGINAL-URL:https://edinfurs.co.uk
X-WR-CALDESC:Events for EdinFurs
REFRESH-INTERVAL;VALUE=DURATION:PT1H
X-Robots-Tag:noindex
X-PUBLISHED-TTL:PT1H
BEGIN:VTIMEZONE
TZID:Europe/London
BEGIN:DAYLIGHT
TZOFFSETFROM:+0000
TZOFFSETTO:+0100
TZNAME:BST
DTSTART:20250330T010000
END:DAYLIGHT
BEGIN:STANDARD
TZOFFSETFROM:+0100
TZOFFSETTO:+0000
TZNAME:GMT
DTSTART:20251026T010000
END:STANDARD
BEGIN:DAYLIGHT
TZOFFSETFROM:+0000
TZOFFSETTO:+0100
TZNAME:BST
DTSTART:20260329T010000
END:DAYLIGHT
BEGIN:STANDARD
TZOFFSETFROM:+0100
TZOFFSETTO:+0000
TZNAME:GMT
DTSTART:20261025T010000
END:STANDARD
BEGIN:DAYLIGHT
TZOFFSETFROM:+0000
TZOFFSETTO:+0100
TZNAME:BST
DTSTART:20270328T010000
END:DAYLIGHT
BEGIN:STANDARD
TZOFFSETFROM:+0100
TZOFFSETTO:+0000
TZNAME:GMT
DTSTART:20271031T010000
END:STANDARD
END:VTIMEZONE
BEGIN:VEVENT
DTSTART;TZID=Europe/London:20260502T120000
DTEND;TZID=Europe/London:20260502T173000
DTSTAMP:20260421T054217
CREATED:20260411T212823Z
LAST-MODIFIED:20260411T213111Z
UID:245-1777723200-1777743000@edinfurs.co.uk
SUMMARY:Main Monthly Meet ( 3 Old Monks ) (02/May/2026)
DESCRIPTION:See EdinFurs telegram news channels for more details.
URL:https://edinfurs.co.uk/event/main-monthly-meet-3-old-monks/
LOCATION:3 Old Monks\, 23 Commercial St\, Leith\, Edinburgh\, EH6 6JA
END:VEVENT
END:VCALENDAR